﻿BEGIN:VCALENDAR
VERSION:2.0
PRODID:-//University Park Library - ECPv6.15.20//NONSGML v1.0//EN
CALSCALE:GREGORIAN
METHOD:PUBLISH
X-ORIGINAL-URL:https://www.uppld.org
X-WR-CALDESC:Events for University Park Library
REFRESH-INTERVAL;VALUE=DURATION:PT1H
X-Robots-Tag:noindex
X-PUBLISHED-TTL:PT1H
BEGIN:VTIMEZONE
TZID:America/Chicago
BEGIN:DAYLIGHT
TZOFFSETFROM:-0600
TZOFFSETTO:-0500
TZNAME:CDT
DTSTART:20250309T080000
END:DAYLIGHT
BEGIN:STANDARD
TZOFFSETFROM:-0500
TZOFFSETTO:-0600
TZNAME:CST
DTSTART:20251102T070000
END:STANDARD
BEGIN:DAYLIGHT
TZOFFSETFROM:-0600
TZOFFSETTO:-0500
TZNAME:CDT
DTSTART:20260308T080000
END:DAYLIGHT
BEGIN:STANDARD
TZOFFSETFROM:-0500
TZOFFSETTO:-0600
TZNAME:CST
DTSTART:20261101T070000
END:STANDARD
BEGIN:DAYLIGHT
TZOFFSETFROM:-0600
TZOFFSETTO:-0500
TZNAME:CDT
DTSTART:20270314T080000
END:DAYLIGHT
BEGIN:STANDARD
TZOFFSETFROM:-0500
TZOFFSETTO:-0600
TZNAME:CST
DTSTART:20271107T070000
END:STANDARD
END:VTIMEZONE
BEGIN:VEVENT
DTSTART;TZID=America/Chicago:20260411T110000
DTEND;TZID=America/Chicago:20260411T130000
DTSTAMP:20260421T041210
CREATED:20260319T164957Z
LAST-MODIFIED:20260319T164957Z
UID:5223-1775905200-1775912400@www.uppld.org
SUMMARY:Shred Day
DESCRIPTION:R4 will securely shred your documents on-site with a mobile unit. This event is first come\, first serve. 2 boxes or tall kitchen bags only.
URL:https://www.uppld.org/event/shred-day/
END:VEVENT
BEGIN:VEVENT
DTSTART;TZID=America/Chicago:20260409T163000
DTEND;TZID=America/Chicago:20260409T173000
DTSTAMP:20260421T041210
CREATED:20260319T163659Z
LAST-MODIFIED:20260319T163659Z
UID:5222-1775752200-1775755800@www.uppld.org
SUMMARY:STEAM: Geode Eggs
DESCRIPTION:
URL:https://www.uppld.org/event/steam-geode-eggs/
END:VEVENT
BEGIN:VEVENT
DTSTART;TZID=America/Chicago:20260407T130000
DTEND;TZID=America/Chicago:20260407T150000
DTSTAMP:20260421T041210
CREATED:20260203T204652Z
LAST-MODIFIED:20260319T223019Z
UID:5108-1775566800-1775574000@www.uppld.org
SUMMARY:Senior Tech Tuesdays
DESCRIPTION:
URL:https://www.uppld.org/event/senior-tech-tuesdays/
END:VEVENT
BEGIN:VEVENT
DTSTART;TZID=America/Chicago:20260406T183000
DTEND;TZID=America/Chicago:20260406T193000
DTSTAMP:20260421T041210
CREATED:20260319T162431Z
LAST-MODIFIED:20260319T162431Z
UID:5220-1775500200-1775503800@www.uppld.org
SUMMARY:Cursive Handwriting
DESCRIPTION:
URL:https://www.uppld.org/event/cursive-handwriting-3/
END:VEVENT
BEGIN:VEVENT
DTSTART;VALUE=DATE:20260403
DTEND;VALUE=DATE:20260404
DTSTAMP:20260421T041210
CREATED:20260319T161722Z
LAST-MODIFIED:20260319T161722Z
UID:5218-1775174400-1775260799@www.uppld.org
SUMMARY:Library Closed: Good Friday
DESCRIPTION:
URL:https://www.uppld.org/event/library-closed-good-friday/
END:VEVENT
BEGIN:VEVENT
DTSTART;TZID=America/Chicago:20260402T183000
DTEND;TZID=America/Chicago:20260402T193000
DTSTAMP:20260421T041210
CREATED:20260311T162840Z
LAST-MODIFIED:20260311T162840Z
UID:5210-1775154600-1775158200@www.uppld.org
SUMMARY:DIY Monthly Crafts: Meditations Jars
DESCRIPTION:
URL:https://www.uppld.org/event/diy-monthly-crafts-meditations-jars/
END:VEVENT
BEGIN:VEVENT
DTSTART;TZID=America/Chicago:20260331T183000
DTEND;TZID=America/Chicago:20260331T193000
DTSTAMP:20260421T041210
CREATED:20260209T234820Z
LAST-MODIFIED:20260209T234820Z
UID:5166-1774981800-1774985400@www.uppld.org
SUMMARY:Line Dancing
DESCRIPTION:
URL:https://www.uppld.org/event/line-dancing-11/
END:VEVENT
BEGIN:VEVENT
DTSTART;TZID=America/Chicago:20260330T183000
DTEND;TZID=America/Chicago:20260330T193000
DTSTAMP:20260421T041210
CREATED:20260210T000514Z
LAST-MODIFIED:20260210T000514Z
UID:5169-1774895400-1774899000@www.uppld.org
SUMMARY:Cursive Handwriting
DESCRIPTION:
URL:https://www.uppld.org/event/cursive-handwriting-2/
END:VEVENT
BEGIN:VEVENT
DTSTART;TZID=America/Chicago:20260328T150000
DTEND;TZID=America/Chicago:20260328T163000
DTSTAMP:20260421T041210
CREATED:20260309T203542Z
LAST-MODIFIED:20260309T203542Z
UID:5170-1774710000-1774715400@www.uppld.org
SUMMARY:Family Movie Night: Pets on a Train
DESCRIPTION:
URL:https://www.uppld.org/event/family-movie-night-pets-on-a-train/
END:VEVENT
BEGIN:VEVENT
DTSTART;TZID=America/Chicago:20260324T183000
DTEND;TZID=America/Chicago:20260324T193000
DTSTAMP:20260421T041210
CREATED:20260209T232637Z
LAST-MODIFIED:20260209T232637Z
UID:5165-1774377000-1774380600@www.uppld.org
SUMMARY:Line Dancing
DESCRIPTION:
URL:https://www.uppld.org/event/line-dancing-10/
END:VEVENT
BEGIN:VEVENT
DTSTART;TZID=America/Chicago:20260323T183000
DTEND;TZID=America/Chicago:20260323T193000
DTSTAMP:20260421T041210
CREATED:20260209T235633Z
LAST-MODIFIED:20260209T235633Z
UID:5168-1774290600-1774294200@www.uppld.org
SUMMARY:Cursive Handwriting
DESCRIPTION:
URL:https://www.uppld.org/event/cursive-handwriting/
END:VEVENT
BEGIN:VEVENT
DTSTART;TZID=America/Chicago:20260321T153000
DTEND;TZID=America/Chicago:20260321T163000
DTSTAMP:20260421T041210
CREATED:20260319T222804Z
LAST-MODIFIED:20260319T222804Z
UID:5253-1774107000-1774110600@www.uppld.org
SUMMARY:Beginners Guitar ( Ages 5 and up)
DESCRIPTION:
URL:https://www.uppld.org/event/beginners-guitar-ages-5-and-up-2/
END:VEVENT
BEGIN:VEVENT
DTSTART;TZID=America/Chicago:20260319T163000
DTEND;TZID=America/Chicago:20260319T173000
DTSTAMP:20260421T041210
CREATED:20260209T235028Z
LAST-MODIFIED:20260209T235028Z
UID:5167-1773937800-1773941400@www.uppld.org
SUMMARY:Teen and Tween: Friendship Bracelets
DESCRIPTION:
URL:https://www.uppld.org/event/teen-and-tween-friendship-bracelets/
END:VEVENT
BEGIN:VEVENT
DTSTART;TZID=America/Chicago:20260317T183000
DTEND;TZID=America/Chicago:20260317T193000
DTSTAMP:20260421T041210
CREATED:20260209T232019Z
LAST-MODIFIED:20260209T232019Z
UID:5164-1773772200-1773775800@www.uppld.org
SUMMARY:Line Dancing
DESCRIPTION:
URL:https://www.uppld.org/event/line-dancing-9/
END:VEVENT
BEGIN:VEVENT
DTSTART;TZID=America/Chicago:20260314T153000
DTEND;TZID=America/Chicago:20260314T163000
DTSTAMP:20260421T041210
CREATED:20260209T215143Z
LAST-MODIFIED:20260209T215143Z
UID:5161-1773502200-1773505800@www.uppld.org
SUMMARY:Beginners Guitar (Ages 5 and Up)
DESCRIPTION:
URL:https://www.uppld.org/event/beginners-guitar-ages-5-and-up/
END:VEVENT
BEGIN:VEVENT
DTSTART;TZID=America/Chicago:20260314T150000
DTEND;TZID=America/Chicago:20260314T160000
DTSTAMP:20260421T041210
CREATED:20260209T231003Z
LAST-MODIFIED:20260209T231358Z
UID:5163-1773500400-1773504000@www.uppld.org
SUMMARY:Vegetable Gardening Workshop: Seed Starting
DESCRIPTION:
URL:https://www.uppld.org/event/vegetable-gardening-workshop-seed-starting/
END:VEVENT
BEGIN:VEVENT
DTSTART;TZID=America/Chicago:20260314T110000
DTEND;TZID=America/Chicago:20260314T120000
DTSTAMP:20260421T041210
CREATED:20260209T215248Z
LAST-MODIFIED:20260209T215248Z
UID:5162-1773486000-1773489600@www.uppld.org
SUMMARY:Tai Chi
DESCRIPTION:
URL:https://www.uppld.org/event/tai-chi-2/
END:VEVENT
BEGIN:VEVENT
DTSTART;TZID=America/Chicago:20260312T163000
DTEND;TZID=America/Chicago:20260312T173000
DTSTAMP:20260421T041210
CREATED:20260209T212834Z
LAST-MODIFIED:20260209T212834Z
UID:5159-1773333000-1773336600@www.uppld.org
SUMMARY:STEAM: Leprechaun Rocks
DESCRIPTION:
URL:https://www.uppld.org/event/steam-leprechaun-rocks/
END:VEVENT
BEGIN:VEVENT
DTSTART;TZID=America/Chicago:20260311T180000
DTEND;TZID=America/Chicago:20260311T190000
DTSTAMP:20260421T041210
CREATED:20260206T192655Z
LAST-MODIFIED:20260310T003249Z
UID:5155-1773252000-1773255600@www.uppld.org
SUMMARY:Art 4 Soul
DESCRIPTION:This event is full
URL:https://www.uppld.org/event/art-4-soul/
END:VEVENT
BEGIN:VEVENT
DTSTART;TZID=America/Chicago:20260310T183000
DTEND;TZID=America/Chicago:20260310T193000
DTSTAMP:20260421T041210
CREATED:20260206T192541Z
LAST-MODIFIED:20260206T192541Z
UID:5154-1773167400-1773171000@www.uppld.org
SUMMARY:Line Dancing
DESCRIPTION:
URL:https://www.uppld.org/event/line-dancing-8/
END:VEVENT
BEGIN:VEVENT
DTSTART;TZID=America/Chicago:20260307T130000
DTEND;TZID=America/Chicago:20260307T140000
DTSTAMP:20260421T041210
CREATED:20260206T191639Z
LAST-MODIFIED:20260209T214004Z
UID:5152-1772888400-1772892000@www.uppld.org
SUMMARY:Dr.Suess Birthday Bash!
DESCRIPTION:
URL:https://www.uppld.org/event/dr-suess-birthday-bash/
END:VEVENT
BEGIN:VEVENT
DTSTART;TZID=America/Chicago:20260305T183000
DTEND;TZID=America/Chicago:20260305T193000
DTSTAMP:20260421T041210
CREATED:20260206T185246Z
LAST-MODIFIED:20260306T180948Z
UID:5145-1772735400-1772739000@www.uppld.org
SUMMARY:DIY Monthly Craft: Glass Pendants
DESCRIPTION:
URL:https://www.uppld.org/event/diy-pendants/
END:VEVENT
BEGIN:VEVENT
DTSTART;TZID=America/Chicago:20260303T183000
DTEND;TZID=America/Chicago:20260303T193000
DTSTAMP:20260421T041210
CREATED:20260206T185142Z
LAST-MODIFIED:20260206T185142Z
UID:5143-1772562600-1772566200@www.uppld.org
SUMMARY:Line Dancing
DESCRIPTION:
URL:https://www.uppld.org/event/line-dancing-7/
END:VEVENT
BEGIN:VEVENT
DTSTART;TZID=America/Chicago:20260303T130000
DTEND;TZID=America/Chicago:20260303T150000
DTSTAMP:20260421T041210
CREATED:20260205T220649Z
LAST-MODIFIED:20260205T220702Z
UID:5142-1772542800-1772550000@www.uppld.org
SUMMARY:Tech Tuesday
DESCRIPTION:
URL:https://www.uppld.org/event/tech-tuesday/
END:VEVENT
BEGIN:VEVENT
DTSTART;TZID=America/Chicago:20260228T153000
DTEND;TZID=America/Chicago:20260228T163000
DTSTAMP:20260421T041210
CREATED:20260203T214211Z
LAST-MODIFIED:20260203T214211Z
UID:5116-1772292600-1772296200@www.uppld.org
SUMMARY:Beginner Guitar (Ages 5 and Up)
DESCRIPTION:
URL:https://www.uppld.org/event/beginner-guitar-ages-5-and-up/
END:VEVENT
BEGIN:VEVENT
DTSTART;TZID=America/Chicago:20260228T110000
DTEND;TZID=America/Chicago:20260228T120000
DTSTAMP:20260421T041210
CREATED:20260204T223628Z
LAST-MODIFIED:20260204T223628Z
UID:5134-1772276400-1772280000@www.uppld.org
SUMMARY:Tai Chi
DESCRIPTION:
URL:https://www.uppld.org/event/tai-chi-6/
END:VEVENT
BEGIN:VEVENT
DTSTART;TZID=America/Chicago:20260226T043000
DTEND;TZID=America/Chicago:20260226T173000
DTSTAMP:20260421T041210
CREATED:20260204T223518Z
LAST-MODIFIED:20260204T223518Z
UID:5133-1772080200-1772127000@www.uppld.org
SUMMARY:DIY Monthly: Body Bar
DESCRIPTION:
URL:https://www.uppld.org/event/diy-monthly-body-bar/
END:VEVENT
BEGIN:VEVENT
DTSTART;TZID=America/Chicago:20260224T183000
DTEND;TZID=America/Chicago:20260224T193000
DTSTAMP:20260421T041210
CREATED:20260204T223427Z
LAST-MODIFIED:20260204T223427Z
UID:5132-1771957800-1771961400@www.uppld.org
SUMMARY:Line Dancing
DESCRIPTION:
URL:https://www.uppld.org/event/line-dancing-6/
END:VEVENT
BEGIN:VEVENT
DTSTART;TZID=America/Chicago:20260221T150000
DTEND;TZID=America/Chicago:20260221T163000
DTSTAMP:20260421T041210
CREATED:20260203T214327Z
LAST-MODIFIED:20260203T214327Z
UID:5117-1771686000-1771691400@www.uppld.org
SUMMARY:Family Movie Night: Kpop Demon Hunters
DESCRIPTION:
URL:https://www.uppld.org/event/family-movie-night-kpop-demon-hunters/
END:VEVENT
BEGIN:VEVENT
DTSTART;TZID=America/Chicago:20260221T130000
DTEND;TZID=America/Chicago:20260221T140000
DTSTAMP:20260421T041210
CREATED:20260204T223228Z
LAST-MODIFIED:20260204T223228Z
UID:5130-1771678800-1771682400@www.uppld.org
SUMMARY:Black History Month Craft
DESCRIPTION:
URL:https://www.uppld.org/event/black-history-month-craft/
END:VEVENT
END:VCALENDAR